BEGIN:VCALENDAR
VERSION:2.0
PRODID:-//Squarespace Inc/Squarespace 6//v6//EN
BEGIN:VEVENT
UID:5a65edf18165f575c966a570@squarespace.com
DTSTAMP:20180122T140041Z
DTSTART:20171021T233000Z
DTEND:20171022T020000Z
SUMMARY:October 21\, 2017 "American Music Festival Part I: Past and Future
END:VEVENT
END:VCALENDAR
