BEGIN:VCALENDAR
VERSION:2.0
PRODID:-//Squarespace Inc/Squarespace 6//v6//EN
BEGIN:VEVENT
UID:5a65ee9ac83025655baafe7b@squarespace.com
DTSTAMP:20180122T140334Z
DTSTART:20171112T003000Z
DTEND:20171112T030000Z
SUMMARY:November 11\, 2017 "American Music Festival Part II: All American P
 rogram in Honor of Veteran's Day
END:VEVENT
END:VCALENDAR
