BEGIN:VCALENDAR
VERSION:2.0
PRODID:-//Squarespace Inc/Squarespace 6//v6//EN
BEGIN:VEVENT
UID:5a65ef44652dea6b6a471d01@squarespace.com
DTSTAMP:20180122T140601Z
DTSTART:20171217T003000Z
DTEND:20171217T030000Z
SUMMARY:December 16\, 2017 "Christmas Choral Spectacular"
END:VEVENT
END:VCALENDAR
