BEGIN:VCALENDAR
VERSION:2.0
PRODID:-//Squarespace Inc/Squarespace 6//v6//EN
BEGIN:VEVENT
UID:5a65ed16419202c75aec2f89@squarespace.com
DTSTAMP:20180122T135720Z
DTSTART:20170916T220000Z
DTEND:20170917T040000Z
SUMMARY:September 16\, 2017 GALA
END:VEVENT
END:VCALENDAR
