BEGIN:VCALENDAR
VERSION:2.0
PRODID:-//Squarespace Inc/Squarespace 6//v6//EN
BEGIN:VEVENT
UID:5a65efd7652dea6b6a4737f4@squarespace.com
DTSTAMP:20180122T140820Z
DTSTART:20180211T003000Z
DTEND:20180211T030000Z
SUMMARY:February 10\, 2018 "JSO Pops: Eight Decades of Broadway\, Johnstown
 \, and the JSO
END:VEVENT
END:VCALENDAR
