BEGIN:VCALENDAR
VERSION:2.0
PRODID:-//Squarespace Inc/Squarespace 6//v6//EN
BEGIN:VEVENT
UID:5a65f14d9140b7b61f73d1db@squarespace.com
DTSTAMP:20180122T141522Z
DTSTART:20180407T233000Z
DTEND:20180408T020000Z
SUMMARY:April 7\, 2018 North American Premiere: Ethel Smyth's The Prison
END:VEVENT
END:VCALENDAR
