BEGIN:VCALENDAR
VERSION:2.0
PRODID:-//Squarespace Inc/Squarespace 6//v6//EN
BEGIN:VEVENT
UID:5a65f2198165f575c9676e31@squarespace.com
DTSTAMP:20180122T142045Z
DTSTART:20180512T233000Z
DTEND:20180513T020000Z
SUMMARY:May 12\, 2018 Symphonic Pictures
END:VEVENT
END:VCALENDAR
